BEGIN:VCALENDAR
VERSION:2.0
PRODID:-//https://calenda-formation.labocleo.org
X-WR-CALNAME:Calenda
X-WR-TIMEZONE:Europe/Paris
CALSCALE:GREGORIAN
X-WR-CALDESC:Le calendrier des lettres et sciences humaines et sociales
METHOD:PUBLISH
BEGIN:VEVENT
DTSTART;VALUE=DATE:20181114
DTEND;VALUE=DATE:20181115
UID:500853-20181114@calenda.revues.org
SUMMARY:Traitement et diffusion des données de l’archéologie
URL:https://calenda-formation.labocleo.org/500853
DESCRIPTION:Le consortium « Mémoires des archéologues et des sites archéologiques » (MASA) organise trois journées consacrées au traitement et à la diffusion des données de l’archéologie. … Weitere Informationen https://calenda-formation.labocleo.org/500853
LOCATION:Aix-en-Provence
END:VEVENT
BEGIN:VEVENT
DTSTART;VALUE=DATE:20181115
DTEND;VALUE=DATE:20181116
UID:500853-20181115@calenda.revues.org
SUMMARY:Traitement et diffusion des données de l’archéologie
URL:https://calenda-formation.labocleo.org/500853
DESCRIPTION:Le consortium « Mémoires des archéologues et des sites archéologiques » (MASA) organise trois journées consacrées au traitement et à la diffusion des données de l’archéologie. … Weitere Informationen https://calenda-formation.labocleo.org/500853
LOCATION:Aix-en-Provence
END:VEVENT
BEGIN:VEVENT
DTSTART;VALUE=DATE:20181116
DTEND;VALUE=DATE:20181117
UID:500853-20181116@calenda.revues.org
SUMMARY:Traitement et diffusion des données de l’archéologie
URL:https://calenda-formation.labocleo.org/500853
DESCRIPTION:Le consortium « Mémoires des archéologues et des sites archéologiques » (MASA) organise trois journées consacrées au traitement et à la diffusion des données de l’archéologie. … Weitere Informationen https://calenda-formation.labocleo.org/500853
LOCATION:Aix-en-Provence
END:VEVENT
END:VCALENDAR
