BEGIN:VCALENDAR
VERSION:2.0
PRODID:-//https://calenda-formation.labocleo.org
X-WR-CALNAME:Calenda
X-WR-TIMEZONE:Europe/Paris
CALSCALE:GREGORIAN
X-WR-CALDESC:Le calendrier des lettres et sciences humaines et sociales
METHOD:PUBLISH
BEGIN:VEVENT
DTSTART;VALUE=DATE:20181108
DTEND;VALUE=DATE:20181109
UID:502967-20181108@calenda.revues.org
SUMMARY:Programme annuel du séminaire du Centre d'études des images et des sons médiatiques
URL:https://calenda-formation.labocleo.org/502967
DESCRIPTION:Ce séminaire présente les recherches actuelles en matière de culture(s) audiovisuelle(s) et télévisuelle(s)\, sans oublier les contenus transitant par les nouveaux écrans\, en invitant au dialogue chercheurs confirmés et jeunes chercheurs. Trop souvent… Más informaciones https://calenda-formation.labocleo.org/502967
LOCATION:París
END:VEVENT
BEGIN:VEVENT
DTSTART;VALUE=DATE:20181129
DTEND;VALUE=DATE:20181130
UID:502967-20181129@calenda.revues.org
SUMMARY:Programme annuel du séminaire du Centre d'études des images et des sons médiatiques
URL:https://calenda-formation.labocleo.org/502967
DESCRIPTION:Ce séminaire présente les recherches actuelles en matière de culture(s) audiovisuelle(s) et télévisuelle(s)\, sans oublier les contenus transitant par les nouveaux écrans\, en invitant au dialogue chercheurs confirmés et jeunes chercheurs. Trop souvent… Más informaciones https://calenda-formation.labocleo.org/502967
LOCATION:París
END:VEVENT
BEGIN:VEVENT
DTSTART;VALUE=DATE:20190110
DTEND;VALUE=DATE:20190111
UID:502967-20190110@calenda.revues.org
SUMMARY:Programme annuel du séminaire du Centre d'études des images et des sons médiatiques
URL:https://calenda-formation.labocleo.org/502967
DESCRIPTION:Ce séminaire présente les recherches actuelles en matière de culture(s) audiovisuelle(s) et télévisuelle(s)\, sans oublier les contenus transitant par les nouveaux écrans\, en invitant au dialogue chercheurs confirmés et jeunes chercheurs. Trop souvent… Más informaciones https://calenda-formation.labocleo.org/502967
LOCATION:París
END:VEVENT
BEGIN:VEVENT
DTSTART;VALUE=DATE:20190207
DTEND;VALUE=DATE:20190208
UID:502967-20190207@calenda.revues.org
SUMMARY:Programme annuel du séminaire du Centre d'études des images et des sons médiatiques
URL:https://calenda-formation.labocleo.org/502967
DESCRIPTION:Ce séminaire présente les recherches actuelles en matière de culture(s) audiovisuelle(s) et télévisuelle(s)\, sans oublier les contenus transitant par les nouveaux écrans\, en invitant au dialogue chercheurs confirmés et jeunes chercheurs. Trop souvent… Más informaciones https://calenda-formation.labocleo.org/502967
LOCATION:París
END:VEVENT
BEGIN:VEVENT
DTSTART;VALUE=DATE:20190314
DTEND;VALUE=DATE:20190315
UID:502967-20190314@calenda.revues.org
SUMMARY:Programme annuel du séminaire du Centre d'études des images et des sons médiatiques
URL:https://calenda-formation.labocleo.org/502967
DESCRIPTION:Ce séminaire présente les recherches actuelles en matière de culture(s) audiovisuelle(s) et télévisuelle(s)\, sans oublier les contenus transitant par les nouveaux écrans\, en invitant au dialogue chercheurs confirmés et jeunes chercheurs. Trop souvent… Más informaciones https://calenda-formation.labocleo.org/502967
LOCATION:París
END:VEVENT
BEGIN:VEVENT
DTSTART;VALUE=DATE:20190404
DTEND;VALUE=DATE:20190405
UID:502967-20190404@calenda.revues.org
SUMMARY:Programme annuel du séminaire du Centre d'études des images et des sons médiatiques
URL:https://calenda-formation.labocleo.org/502967
DESCRIPTION:Ce séminaire présente les recherches actuelles en matière de culture(s) audiovisuelle(s) et télévisuelle(s)\, sans oublier les contenus transitant par les nouveaux écrans\, en invitant au dialogue chercheurs confirmés et jeunes chercheurs. Trop souvent… Más informaciones https://calenda-formation.labocleo.org/502967
LOCATION:París
END:VEVENT
BEGIN:VEVENT
DTSTART;VALUE=DATE:20190516
DTEND;VALUE=DATE:20190517
UID:502967-20190516@calenda.revues.org
SUMMARY:Programme annuel du séminaire du Centre d'études des images et des sons médiatiques
URL:https://calenda-formation.labocleo.org/502967
DESCRIPTION:Ce séminaire présente les recherches actuelles en matière de culture(s) audiovisuelle(s) et télévisuelle(s)\, sans oublier les contenus transitant par les nouveaux écrans\, en invitant au dialogue chercheurs confirmés et jeunes chercheurs. Trop souvent… Más informaciones https://calenda-formation.labocleo.org/502967
LOCATION:París
END:VEVENT
END:VCALENDAR
