BEGIN:VCALENDAR
VERSION:2.0
PRODID:-//https://calenda-formation.labocleo.org
X-WR-CALNAME:Calenda
X-WR-TIMEZONE:Europe/Paris
CALSCALE:GREGORIAN
X-WR-CALDESC:The calendar for arts, humanities and social sciences
METHOD:PUBLISH
BEGIN:VEVENT
DTSTART;VALUE=DATE:20181119
DTEND;VALUE=DATE:20181120
UID:506295-20181119@calenda.revues.org
SUMMARY:Living and bringing alive the Middle Ages
URL:https://calenda-formation.labocleo.org/506295
DESCRIPTION:L’objectif de ce colloque interdisciplinaire est de questionner les nombreux usages des savoirs historiques sur la période médiévale\, ses diverses réceptions et ces détournements dans les médiévalismes contemporains. Les médiations qui interviennent … @plus_info https://calenda-formation.labocleo.org/506295
LOCATION:Carcassonne
END:VEVENT
END:VCALENDAR
