BEGIN:VCALENDAR
VERSION:2.0
PRODID:-//https://calenda-formation.labocleo.org
X-WR-CALNAME:Calenda
X-WR-TIMEZONE:Europe/Paris
CALSCALE:GREGORIAN
X-WR-CALDESC:Le calendrier des lettres et sciences humaines et sociales
METHOD:PUBLISH
BEGIN:VEVENT
DTSTART;VALUE=DATE:20181115
DTEND;VALUE=DATE:20181116
UID:507183-20181115@calenda.revues.org
SUMMARY:La gestion des risques en humanités numériques
URL:https://calenda-formation.labocleo.org/507183
DESCRIPTION:Si les risques inhérents aux projets de recherche nécessitant la manipulation d’organismes vivants ou d’équipements lourds sont aisément compris et identifiés par les institutions de recherche\, ceux qui ont trait aux projets de recherche en humanités… Weitere Informationen https://calenda-formation.labocleo.org/507183
LOCATION:Nantes\, Paris
END:VEVENT
BEGIN:VEVENT
DTSTART;VALUE=DATE:20181206
DTEND;VALUE=DATE:20181207
UID:507183-20181206@calenda.revues.org
SUMMARY:La gestion des risques en humanités numériques
URL:https://calenda-formation.labocleo.org/507183
DESCRIPTION:Si les risques inhérents aux projets de recherche nécessitant la manipulation d’organismes vivants ou d’équipements lourds sont aisément compris et identifiés par les institutions de recherche\, ceux qui ont trait aux projets de recherche en humanités… Weitere Informationen https://calenda-formation.labocleo.org/507183
LOCATION:Nantes\, Paris
END:VEVENT
BEGIN:VEVENT
DTSTART;VALUE=DATE:20190124
DTEND;VALUE=DATE:20190125
UID:507183-20190124@calenda.revues.org
SUMMARY:La gestion des risques en humanités numériques
URL:https://calenda-formation.labocleo.org/507183
DESCRIPTION:Si les risques inhérents aux projets de recherche nécessitant la manipulation d’organismes vivants ou d’équipements lourds sont aisément compris et identifiés par les institutions de recherche\, ceux qui ont trait aux projets de recherche en humanités… Weitere Informationen https://calenda-formation.labocleo.org/507183
LOCATION:Nantes\, Paris
END:VEVENT
BEGIN:VEVENT
DTSTART;VALUE=DATE:20190207
DTEND;VALUE=DATE:20190208
UID:507183-20190207@calenda.revues.org
SUMMARY:La gestion des risques en humanités numériques
URL:https://calenda-formation.labocleo.org/507183
DESCRIPTION:Si les risques inhérents aux projets de recherche nécessitant la manipulation d’organismes vivants ou d’équipements lourds sont aisément compris et identifiés par les institutions de recherche\, ceux qui ont trait aux projets de recherche en humanités… Weitere Informationen https://calenda-formation.labocleo.org/507183
LOCATION:Nantes\, Paris
END:VEVENT
BEGIN:VEVENT
DTSTART;VALUE=DATE:20190314
DTEND;VALUE=DATE:20190315
UID:507183-20190314@calenda.revues.org
SUMMARY:La gestion des risques en humanités numériques
URL:https://calenda-formation.labocleo.org/507183
DESCRIPTION:Si les risques inhérents aux projets de recherche nécessitant la manipulation d’organismes vivants ou d’équipements lourds sont aisément compris et identifiés par les institutions de recherche\, ceux qui ont trait aux projets de recherche en humanités… Weitere Informationen https://calenda-formation.labocleo.org/507183
LOCATION:Nantes\, Paris
END:VEVENT
BEGIN:VEVENT
DTSTART;VALUE=DATE:20190523
DTEND;VALUE=DATE:20190524
UID:507183-20190523@calenda.revues.org
SUMMARY:La gestion des risques en humanités numériques
URL:https://calenda-formation.labocleo.org/507183
DESCRIPTION:Si les risques inhérents aux projets de recherche nécessitant la manipulation d’organismes vivants ou d’équipements lourds sont aisément compris et identifiés par les institutions de recherche\, ceux qui ont trait aux projets de recherche en humanités… Weitere Informationen https://calenda-formation.labocleo.org/507183
LOCATION:Nantes\, Paris
END:VEVENT
BEGIN:VEVENT
DTSTART;VALUE=DATE:20190606
DTEND;VALUE=DATE:20190607
UID:507183-20190606@calenda.revues.org
SUMMARY:La gestion des risques en humanités numériques
URL:https://calenda-formation.labocleo.org/507183
DESCRIPTION:Si les risques inhérents aux projets de recherche nécessitant la manipulation d’organismes vivants ou d’équipements lourds sont aisément compris et identifiés par les institutions de recherche\, ceux qui ont trait aux projets de recherche en humanités… Weitere Informationen https://calenda-formation.labocleo.org/507183
LOCATION:Nantes\, Paris
END:VEVENT
END:VCALENDAR
