BEGIN:VCALENDAR
VERSION:2.0
PRODID:-//https://calenda-formation.labocleo.org
X-WR-CALNAME:Calenda
X-WR-TIMEZONE:Europe/Paris
CALSCALE:GREGORIAN
X-WR-CALDESC:Le calendrier des lettres et sciences humaines et sociales
METHOD:PUBLISH
BEGIN:VEVENT
DTSTART;VALUE=DATE:20181205
DTEND;VALUE=DATE:20181206
UID:507935-20181205@calenda.revues.org
SUMMARY:Théories économiques et modèles de gestion 
URL:https://calenda-formation.labocleo.org/507935
DESCRIPTION:Vu le lien historique entre l’économie et la gestion\, il est intéressant de se questionner sur leurs interrelations et l’influence de l’une sur l’autre. Puisque l’économie est la discipline ainée de la gestion\, il est plus plausible de mettre en lumi… Más informaciones https://calenda-formation.labocleo.org/507935
LOCATION:Oujda
END:VEVENT
END:VCALENDAR
