BEGIN:VCALENDAR
VERSION:2.0
PRODID:-//https://calenda-formation.labocleo.org
X-WR-CALNAME:Calenda
X-WR-TIMEZONE:Europe/Paris
CALSCALE:GREGORIAN
X-WR-CALDESC:Le calendrier des lettres et sciences humaines et sociales
METHOD:PUBLISH
BEGIN:VEVENT
DTSTART;VALUE=DATE:20181119
DTEND;VALUE=DATE:20181120
UID:508914-20181119@calenda.revues.org
SUMMARY:Les opérations extérieures. Du terrain à l'histoire
URL:https://calenda-formation.labocleo.org/508914
DESCRIPTION:Ce colloque sur les opérations extérieures (OPEX) s’inscrit dans l’axe de recherche « histoire des opérations militaires »\, qui a déjà donné lieu en janvier 2017 au colloque « L’histoire des opérations militaires : sources\, objets\, méthodes ». Dans c… Más informaciones https://calenda-formation.labocleo.org/508914
LOCATION:Paris 15 Vaugirard
END:VEVENT
BEGIN:VEVENT
DTSTART;VALUE=DATE:20181120
DTEND;VALUE=DATE:20181121
UID:508914-20181120@calenda.revues.org
SUMMARY:Les opérations extérieures. Du terrain à l'histoire
URL:https://calenda-formation.labocleo.org/508914
DESCRIPTION:Ce colloque sur les opérations extérieures (OPEX) s’inscrit dans l’axe de recherche « histoire des opérations militaires »\, qui a déjà donné lieu en janvier 2017 au colloque « L’histoire des opérations militaires : sources\, objets\, méthodes ». Dans c… Más informaciones https://calenda-formation.labocleo.org/508914
LOCATION:Paris 15 Vaugirard
END:VEVENT
END:VCALENDAR
