BEGIN:VCALENDAR
VERSION:2.0
PRODID:-//https://calenda-formation.labocleo.org
X-WR-CALNAME:Calenda
X-WR-TIMEZONE:Europe/Paris
CALSCALE:GREGORIAN
X-WR-CALDESC:The calendar for arts, humanities and social sciences
METHOD:PUBLISH
BEGIN:VEVENT
DTSTART;VALUE=DATE:20181119
DTEND;VALUE=DATE:20181120
UID:509578-20181119@calenda.revues.org
SUMMARY:The will of archives 
URL:https://calenda-formation.labocleo.org/509578
DESCRIPTION:L'atelier-symposium La volonté des archives propose une rencontre ad hoc et transdisciplinaire d'artistes\, de chercheurs\, de muséologues et de conservateurs qui sont invités à explorer des questions de représentation archivistique d'objets muséologiq… @plus_info https://calenda-formation.labocleo.org/509578
LOCATION:Paris
END:VEVENT
END:VCALENDAR
