BEGIN:VCALENDAR
VERSION:2.0
PRODID:-//https://calenda-formation.labocleo.org
X-WR-CALNAME:Calenda
X-WR-TIMEZONE:Europe/Paris
CALSCALE:GREGORIAN
X-WR-CALDESC:The calendar for arts, humanities and social sciences
METHOD:PUBLISH
BEGIN:VEVENT
DTSTART;VALUE=DATE:20190228
DTEND;VALUE=DATE:20190301
UID:510195-20190228@calenda.revues.org
SUMMARY:Urban audiovisual festival
URL:https://calenda-formation.labocleo.org/510195
DESCRIPTION:Up to a certain point\, the way we move to cities is the way we live cities. We choose our transportation based on the time\, the safety of the way etc. From home to work or to the school\, from work to a leisure activity\, to visit a friend\, regardless … @plus_info https://calenda-formation.labocleo.org/510195
LOCATION:Lisbon
END:VEVENT
END:VCALENDAR
