BEGIN:VCALENDAR
VERSION:2.0
PRODID:-//https://calenda-formation.labocleo.org
X-WR-CALNAME:Calenda
X-WR-TIMEZONE:Europe/Paris
CALSCALE:GREGORIAN
X-WR-CALDESC:The calendar for arts, humanities and social sciences
METHOD:PUBLISH
BEGIN:VEVENT
DTSTART;VALUE=DATE:20190104
DTEND;VALUE=DATE:20190105
UID:513759-20190104@calenda.revues.org
SUMMARY:The Right\, the Beautiful\, the Good
URL:https://calenda-formation.labocleo.org/513759
DESCRIPTION:Le comité organisateur souhaite offrir une plateforme d’échanges et de réflexions sur l’usage et la conceptualisation des normes. En quoi varient-elles selon le temps et l’espace ? Comment s’institutionnalisent-elles ? Peuvent-elles se confronter ? D… @plus_info https://calenda-formation.labocleo.org/513759
LOCATION:Montreal
END:VEVENT
END:VCALENDAR
