BEGIN:VCALENDAR
VERSION:2.0
PRODID:-//https://calenda-formation.labocleo.org
X-WR-CALNAME:Calenda
X-WR-TIMEZONE:Europe/Paris
CALSCALE:GREGORIAN
X-WR-CALDESC:The calendar for arts, humanities and social sciences
METHOD:PUBLISH
BEGIN:VEVENT
DTSTART;VALUE=DATE:20190228
DTEND;VALUE=DATE:20190301
UID:516287-20190228@calenda.revues.org
SUMMARY:Drivers and pedestrians and the prevention of road accidents? 
URL:https://calenda-formation.labocleo.org/516287
DESCRIPTION:Les causes des accidents de la circulation\, l’amélioration de la sécurité routière et la relation entre l’accidentologie et l’aménagement du territoire ainsi que le comportement des usagers de la route (conducteurs et piétons) attirent actuellement l… @plus_info https://calenda-formation.labocleo.org/516287
LOCATION:
END:VEVENT
END:VCALENDAR
