BEGIN:VCALENDAR
VERSION:2.0
PRODID:-//https://calenda-formation.labocleo.org
X-WR-CALNAME:Calenda
X-WR-TIMEZONE:Europe/Paris
CALSCALE:GREGORIAN
X-WR-CALDESC:Le calendrier des lettres et sciences humaines et sociales
METHOD:PUBLISH
BEGIN:VEVENT
DTSTART;VALUE=DATE:20190111
DTEND;VALUE=DATE:20190112
UID:516491-20190111@calenda.revues.org
SUMMARY:Travail social et racisme : quels paradoxes ?
URL:https://calenda-formation.labocleo.org/516491
DESCRIPTION:Proposé lors du colloque 2019 de l'Association internationale pour la recherche interculturelle (ARIC) Migrations\, relations interculturelles et rapports de pouvoir\, ce panel porte sur le racisme comme forme de discrimination liée à la racialisation\,… Más informaciones https://calenda-formation.labocleo.org/516491
LOCATION:Ginebra
END:VEVENT
END:VCALENDAR
