BEGIN:VCALENDAR
VERSION:2.0
PRODID:-//https://calenda-formation.labocleo.org
X-WR-CALNAME:Calenda
X-WR-TIMEZONE:Europe/Paris
CALSCALE:GREGORIAN
X-WR-CALDESC:The calendar for arts, humanities and social sciences
METHOD:PUBLISH
BEGIN:VEVENT
DTSTART;VALUE=DATE:20181220
DTEND;VALUE=DATE:20181221
UID:516834-20181220@calenda.revues.org
SUMMARY:Can we do without care home for the elderly (EHPAD)?
URL:https://calenda-formation.labocleo.org/516834
DESCRIPTION:Cette journée porte précisément sur l’accompagnement des personnes âgées au sein des différents dispositifs existants. Elle prend acte de la multiplication de solutions alternatives aux établissements d'hébergement pour personnes âgées dépendantes (E… @plus_info https://calenda-formation.labocleo.org/516834
LOCATION:Bordeaux
END:VEVENT
END:VCALENDAR
