BEGIN:VCALENDAR
VERSION:2.0
PRODID:-//https://calenda-formation.labocleo.org
X-WR-CALNAME:Calenda
X-WR-TIMEZONE:Europe/Paris
CALSCALE:GREGORIAN
X-WR-CALDESC:Le calendrier des lettres et sciences humaines et sociales
METHOD:PUBLISH
BEGIN:VEVENT
DTSTART;VALUE=DATE:20181220
DTEND;VALUE=DATE:20181221
UID:516834-20181220@calenda.revues.org
SUMMARY:Peut-on se passer des établissements d'hébergement pour personnes âgées dépendantes (EHPAD) ? 
URL:https://calenda-formation.labocleo.org/516834
DESCRIPTION:Cette journée porte précisément sur l’accompagnement des personnes âgées au sein des différents dispositifs existants. Elle prend acte de la multiplication de solutions alternatives aux établissements d'hébergement pour personnes âgées dépendantes (E… Más informaciones https://calenda-formation.labocleo.org/516834
LOCATION:Burdeos
END:VEVENT
END:VCALENDAR
