BEGIN:VCALENDAR
VERSION:2.0
PRODID:-//https://calenda-formation.labocleo.org
X-WR-CALNAME:Calenda
X-WR-TIMEZONE:Europe/Paris
CALSCALE:GREGORIAN
X-WR-CALDESC:The calendar for arts, humanities and social sciences
METHOD:PUBLISH
BEGIN:VEVENT
DTSTART;VALUE=DATE:20181126
DTEND;VALUE=DATE:20181127
UID:517549-20181126@calenda.revues.org
SUMMARY:What value does academic output have today?
URL:https://calenda-formation.labocleo.org/517549
DESCRIPTION:L’objectif de la journée est de réfléchir à un nouveau référentiel valorisant l’ensemble des productions et des activités scientifiques en reconnaissant la pluralité linguistique et des supports. … @plus_info https://calenda-formation.labocleo.org/517549
LOCATION:Paris
END:VEVENT
END:VCALENDAR
