BEGIN:VCALENDAR
VERSION:2.0
PRODID:-//https://calenda-formation.labocleo.org
X-WR-CALNAME:Calenda
X-WR-TIMEZONE:Europe/Paris
CALSCALE:GREGORIAN
X-WR-CALDESC:Le calendrier des lettres et sciences humaines et sociales
METHOD:PUBLISH
BEGIN:VEVENT
DTSTART;VALUE=DATE:20181212
DTEND;VALUE=DATE:20181213
UID:518171-20181212@calenda.revues.org
SUMMARY:Mobilisations des minorités sexuelles et de genre en dehors du « Nord global »
URL:https://calenda-formation.labocleo.org/518171
DESCRIPTION:L'objet de cette session est de présenter des recherches empiriques cherchant à dépasser le paradigme de la simple « imposition » – d'identités\, de formulation de causes\, de modes d'action – de "l'Occident" vers le reste du monde\, pour produire des a… Más informaciones https://calenda-formation.labocleo.org/518171
LOCATION:Burdeos
END:VEVENT
END:VCALENDAR
