BEGIN:VCALENDAR
VERSION:2.0
PRODID:-//https://calenda-formation.labocleo.org
X-WR-CALNAME:Calenda
X-WR-TIMEZONE:Europe/Paris
CALSCALE:GREGORIAN
X-WR-CALDESC:Le calendrier des lettres et sciences humaines et sociales
METHOD:PUBLISH
BEGIN:VEVENT
DTSTART;VALUE=DATE:20190117
DTEND;VALUE=DATE:20190118
UID:519494-20190117@calenda.revues.org
SUMMARY:Transgressions\, conformismes et attentismes
URL:https://calenda-formation.labocleo.org/519494
DESCRIPTION:Vous trouverez le programme 2019 du séminaire « Mondes militaires et seconde guerre mondiale » organisé par le Service historique de la Défense et le Centre d'histoire de Sciences Po et dont le thème de cette année porte sur les « transgressions\, con… @plus_info https://calenda-formation.labocleo.org/519494
LOCATION:Paris\, Vincennes
END:VEVENT
BEGIN:VEVENT
DTSTART;VALUE=DATE:20190214
DTEND;VALUE=DATE:20190215
UID:519494-20190214@calenda.revues.org
SUMMARY:Transgressions\, conformismes et attentismes
URL:https://calenda-formation.labocleo.org/519494
DESCRIPTION:Vous trouverez le programme 2019 du séminaire « Mondes militaires et seconde guerre mondiale » organisé par le Service historique de la Défense et le Centre d'histoire de Sciences Po et dont le thème de cette année porte sur les « transgressions\, con… @plus_info https://calenda-formation.labocleo.org/519494
LOCATION:Paris\, Vincennes
END:VEVENT
BEGIN:VEVENT
DTSTART;VALUE=DATE:20190321
DTEND;VALUE=DATE:20190322
UID:519494-20190321@calenda.revues.org
SUMMARY:Transgressions\, conformismes et attentismes
URL:https://calenda-formation.labocleo.org/519494
DESCRIPTION:Vous trouverez le programme 2019 du séminaire « Mondes militaires et seconde guerre mondiale » organisé par le Service historique de la Défense et le Centre d'histoire de Sciences Po et dont le thème de cette année porte sur les « transgressions\, con… @plus_info https://calenda-formation.labocleo.org/519494
LOCATION:Paris\, Vincennes
END:VEVENT
BEGIN:VEVENT
DTSTART;VALUE=DATE:20190418
DTEND;VALUE=DATE:20190419
UID:519494-20190418@calenda.revues.org
SUMMARY:Transgressions\, conformismes et attentismes
URL:https://calenda-formation.labocleo.org/519494
DESCRIPTION:Vous trouverez le programme 2019 du séminaire « Mondes militaires et seconde guerre mondiale » organisé par le Service historique de la Défense et le Centre d'histoire de Sciences Po et dont le thème de cette année porte sur les « transgressions\, con… @plus_info https://calenda-formation.labocleo.org/519494
LOCATION:Paris\, Vincennes
END:VEVENT
BEGIN:VEVENT
DTSTART;VALUE=DATE:20190523
DTEND;VALUE=DATE:20190524
UID:519494-20190523@calenda.revues.org
SUMMARY:Transgressions\, conformismes et attentismes
URL:https://calenda-formation.labocleo.org/519494
DESCRIPTION:Vous trouverez le programme 2019 du séminaire « Mondes militaires et seconde guerre mondiale » organisé par le Service historique de la Défense et le Centre d'histoire de Sciences Po et dont le thème de cette année porte sur les « transgressions\, con… @plus_info https://calenda-formation.labocleo.org/519494
LOCATION:Paris\, Vincennes
END:VEVENT
END:VCALENDAR
