BEGIN:VCALENDAR
VERSION:2.0
PRODID:-//https://calenda-formation.labocleo.org
X-WR-CALNAME:Calenda
X-WR-TIMEZONE:Europe/Paris
CALSCALE:GREGORIAN
X-WR-CALDESC:The calendar for arts, humanities and social sciences
METHOD:PUBLISH
BEGIN:VEVENT
DTSTART;VALUE=DATE:20181217
DTEND;VALUE=DATE:20181218
UID:519942-20181217@calenda.revues.org
SUMMARY:Saint Nicolas and his followers. The anthropology of figures of the European winter
URL:https://calenda-formation.labocleo.org/519942
DESCRIPTION:Marronnier clôturant l’année civile\, les fêtes entourant Noël en Europe suscitent diverses polémiques : du design ou de l’essence de l’arbre qui décorera le plus « authentiquement » la grand place de Bruxelles à la condamnation du Zwarte Piet en pass… @plus_info https://calenda-formation.labocleo.org/519942
LOCATION:Louvain-la-Neuve
END:VEVENT
END:VCALENDAR
