BEGIN:VCALENDAR
VERSION:2.0
PRODID:-//https://calenda-formation.labocleo.org
X-WR-CALNAME:Calenda
X-WR-TIMEZONE:Europe/Paris
CALSCALE:GREGORIAN
X-WR-CALDESC:The calendar for arts, humanities and social sciences
METHOD:PUBLISH
BEGIN:VEVENT
DTSTART;VALUE=DATE:20181129
DTEND;VALUE=DATE:20181130
UID:520091-20181129@calenda.revues.org
SUMMARY:Pierre Abélard\, multiform genius
URL:https://calenda-formation.labocleo.org/520091
DESCRIPTION:Étudiant terrible et maître illustre\, amant légendaire et logicien virtuose\, moine instable et abbé réformateur\, poète de génie et philosophe précurseur\, théologien prestigieux et deux fois condamné pour hérésie\, auteur entre autres de commentaires s… @plus_info https://calenda-formation.labocleo.org/520091
LOCATION:Paris
END:VEVENT
BEGIN:VEVENT
DTSTART;VALUE=DATE:20181130
DTEND;VALUE=DATE:20181201
UID:520091-20181130@calenda.revues.org
SUMMARY:Pierre Abélard\, multiform genius
URL:https://calenda-formation.labocleo.org/520091
DESCRIPTION:Étudiant terrible et maître illustre\, amant légendaire et logicien virtuose\, moine instable et abbé réformateur\, poète de génie et philosophe précurseur\, théologien prestigieux et deux fois condamné pour hérésie\, auteur entre autres de commentaires s… @plus_info https://calenda-formation.labocleo.org/520091
LOCATION:Paris
END:VEVENT
END:VCALENDAR
