BEGIN:VCALENDAR
VERSION:2.0
PRODID:-//https://calenda-formation.labocleo.org
X-WR-CALNAME:Calenda
X-WR-TIMEZONE:Europe/Paris
CALSCALE:GREGORIAN
X-WR-CALDESC:The calendar for arts, humanities and social sciences
METHOD:PUBLISH
BEGIN:VEVENT
DTSTART;VALUE=DATE:20181122
DTEND;VALUE=DATE:20181123
UID:521262-20181122@calenda.revues.org
SUMMARY:Reconfigurations of the living
URL:https://calenda-formation.labocleo.org/521262
DESCRIPTION:À partir de l’étude de la fabrication et de l’utilisation d’artefacts dans des sociétés traditionnelles (Océanie\, Amérique du Nord et du Sud\, Afrique)\, nous souhaitons étudier comment l’activité technique utilise des éléments provenant d’organismes v… @plus_info https://calenda-formation.labocleo.org/521262
LOCATION:Paris
END:VEVENT
END:VCALENDAR
