BEGIN:VCALENDAR
VERSION:2.0
PRODID:-//https://calenda-formation.labocleo.org
X-WR-CALNAME:Calenda
X-WR-TIMEZONE:Europe/Paris
CALSCALE:GREGORIAN
X-WR-CALDESC:The calendar for arts, humanities and social sciences
METHOD:PUBLISH
BEGIN:VEVENT
DTSTART;VALUE=DATE:20190131
DTEND;VALUE=DATE:20190201
UID:522349-20190131@calenda.revues.org
SUMMARY:Childhood\, youth and Christian missions. 19th-21st centuries
URL:https://calenda-formation.labocleo.org/522349
DESCRIPTION:En 2019\, le Centre de Recherches et d'Echanges sur Diffusion et l'Inculturation du Christianisme (CREDIC) consacre son colloque à la jeunesse chrétienne. Organisée dans la catéchèse ecclésiale comme dans des mouvements para-ecclésiaux ou dans des pro… @plus_info https://calenda-formation.labocleo.org/522349
LOCATION:Lyon
END:VEVENT
END:VCALENDAR
