BEGIN:VCALENDAR
VERSION:2.0
PRODID:-//https://calenda-formation.labocleo.org
X-WR-CALNAME:Calenda
X-WR-TIMEZONE:Europe/Paris
CALSCALE:GREGORIAN
X-WR-CALDESC:Le calendrier des lettres et sciences humaines et sociales
METHOD:PUBLISH
BEGIN:VEVENT
DTSTART;VALUE=DATE:20181130
DTEND;VALUE=DATE:20181201
UID:522663-20181130@calenda.revues.org
SUMMARY:Arrival cities: Migrating artists and new metropolitan topographies
URL:https://calenda-formation.labocleo.org/522663
DESCRIPTION:Focusing on the intersections of exile\, artistic practice and urban space\, this international conference brings together researchers committed to revising the historiography of ‘modern’ art. Part of the ERC research project Relocating Modernism: Glob… Weitere Informationen https://calenda-formation.labocleo.org/522663
LOCATION:Munich
END:VEVENT
BEGIN:VEVENT
DTSTART;VALUE=DATE:20181201
DTEND;VALUE=DATE:20181202
UID:522663-20181201@calenda.revues.org
SUMMARY:Arrival cities: Migrating artists and new metropolitan topographies
URL:https://calenda-formation.labocleo.org/522663
DESCRIPTION:Focusing on the intersections of exile\, artistic practice and urban space\, this international conference brings together researchers committed to revising the historiography of ‘modern’ art. Part of the ERC research project Relocating Modernism: Glob… Weitere Informationen https://calenda-formation.labocleo.org/522663
LOCATION:Munich
END:VEVENT
END:VCALENDAR
