BEGIN:VCALENDAR
VERSION:2.0
PRODID:-//https://calenda-formation.labocleo.org
X-WR-CALNAME:Calenda
X-WR-TIMEZONE:Europe/Paris
CALSCALE:GREGORIAN
X-WR-CALDESC:Le calendrier des lettres et sciences humaines et sociales
METHOD:PUBLISH
BEGIN:VEVENT
DTSTART;VALUE=DATE:20190201
DTEND;VALUE=DATE:20190202
UID:523694-20190201@calenda.revues.org
SUMMARY:Derechos de los pueblos y educacion 
URL:https://calenda-formation.labocleo.org/523694
DESCRIPTION:En este número de la revista nuestrAmérica nos proponemos reflexionar en torno a los derechos de los pueblos\, desde una perspectiva interseccional articulada a diversas opresiones : el imperialismo\, la clase\, el racismo\, el patriarcado\, entre otras. … Más informaciones https://calenda-formation.labocleo.org/523694
LOCATION:Concepción
END:VEVENT
END:VCALENDAR
