BEGIN:VCALENDAR
VERSION:2.0
PRODID:-//https://calenda-formation.labocleo.org
X-WR-CALNAME:Calenda
X-WR-TIMEZONE:Europe/Paris
CALSCALE:GREGORIAN
X-WR-CALDESC:Le calendrier des lettres et sciences humaines et sociales
METHOD:PUBLISH
BEGIN:VEVENT
DTSTART;VALUE=DATE:20190915
DTEND;VALUE=DATE:20190916
UID:523781-20190915@calenda.revues.org
SUMMARY:Et la poésie ?
URL:https://calenda-formation.labocleo.org/523781
DESCRIPTION:Ce dossier de la revue Politiques de communication se propose de saisir la réalité contemporaine du fait poétique. Il s'agit de mieux connaître les mondes discrets de la poésie\, des auteurs\, des éditeurs\, des lecteurs\, des distributeurs\, etc. Mais au… @plus_info https://calenda-formation.labocleo.org/523781
LOCATION:
END:VEVENT
END:VCALENDAR
