BEGIN:VCALENDAR
VERSION:2.0
PRODID:-//https://calenda-formation.labocleo.org
X-WR-CALNAME:Calenda
X-WR-TIMEZONE:Europe/Paris
CALSCALE:GREGORIAN
X-WR-CALDESC:Le calendrier des lettres et sciences humaines et sociales
METHOD:PUBLISH
BEGIN:VEVENT
DTSTART;VALUE=DATE:20190315
DTEND;VALUE=DATE:20190316
UID:523918-20190315@calenda.revues.org
SUMMARY:Les états provinciaux « au travail » en France et en Europe (XVIe-XVIIIe siècle)
URL:https://calenda-formation.labocleo.org/523918
DESCRIPTION:Les assemblées d'états ne furent pas seulement des interlocuteurs dociles du pouvoir monarchique qui les instituait avec régularité ; leur histoire montre qu’elles furent aussi des assemblées vives et fécondes produisant un réel travail d’administrat… @plus_info https://calenda-formation.labocleo.org/523918
LOCATION:Avignon
END:VEVENT
END:VCALENDAR
