BEGIN:VCALENDAR
VERSION:2.0
PRODID:-//https://calenda-formation.labocleo.org
X-WR-CALNAME:Calenda
X-WR-TIMEZONE:Europe/Paris
CALSCALE:GREGORIAN
X-WR-CALDESC:The calendar for arts, humanities and social sciences
METHOD:PUBLISH
BEGIN:VEVENT
DTSTART;VALUE=DATE:20181201
DTEND;VALUE=DATE:20181202
UID:524811-20181201@calenda.revues.org
SUMMARY:The punk scene in Bordeaux (1976-2016)
URL:https://calenda-formation.labocleo.org/524811
DESCRIPTION:Cette journée d’étude a pour objectif de questionner les enracinements bordelais du punk tant du point de vue de leur singularité\, de leur originalité géographique et culturelle que des influences et tensions entre centre et périphérie\, voire entre r… @plus_info https://calenda-formation.labocleo.org/524811
LOCATION:Bordeaux
END:VEVENT
END:VCALENDAR
