BEGIN:VCALENDAR
VERSION:2.0
PRODID:-//https://calenda-formation.labocleo.org
X-WR-CALNAME:Calenda
X-WR-TIMEZONE:Europe/Paris
CALSCALE:GREGORIAN
X-WR-CALDESC:Le calendrier des lettres et sciences humaines et sociales
METHOD:PUBLISH
BEGIN:VEVENT
DTSTART;VALUE=DATE:20190115
DTEND;VALUE=DATE:20190116
UID:525309-20190115@calenda.revues.org
SUMMARY:Les voix des femmes immigrées
URL:https://calenda-formation.labocleo.org/525309
DESCRIPTION:Ce colloque a pour ambition d’éclaircir le rôle de la parole féminine dans cette conceptualisation de « la figure de la femme comme protagoniste de la migration\, actrice économique\, actrice sociale et du développement ». Autrement dit\, nous nous dema… Weitere Informationen https://calenda-formation.labocleo.org/525309
LOCATION:Mülhausen
END:VEVENT
END:VCALENDAR
