BEGIN:VCALENDAR
VERSION:2.0
PRODID:-//https://calenda-formation.labocleo.org
X-WR-CALNAME:Calenda
X-WR-TIMEZONE:Europe/Paris
CALSCALE:GREGORIAN
X-WR-CALDESC:Le calendrier des lettres et sciences humaines et sociales
METHOD:PUBLISH
BEGIN:VEVENT
DTSTART;VALUE=DATE:20181130
DTEND;VALUE=DATE:20181201
UID:525349-20181130@calenda.revues.org
SUMMARY:« Contextes et Didactiques » – Varia
URL:https://calenda-formation.labocleo.org/525349
DESCRIPTION:La diversité et la coexistence\, voire la confrontation de contextes de différentes natures jouent un rôle fondamental dans de nombreuses situations d’enseignement. Depuis les contextes historiques\, géographiques\, écologiques\, sociolinguistiques\, et c… Weitere Informationen https://calenda-formation.labocleo.org/525349
LOCATION:
END:VEVENT
END:VCALENDAR
