BEGIN:VCALENDAR
VERSION:2.0
PRODID:-//https://calenda-formation.labocleo.org
X-WR-CALNAME:Calenda
X-WR-TIMEZONE:Europe/Paris
CALSCALE:GREGORIAN
X-WR-CALDESC:Le calendrier des lettres et sciences humaines et sociales
METHOD:PUBLISH
BEGIN:VEVENT
DTSTART;VALUE=DATE:20190120
DTEND;VALUE=DATE:20190121
UID:525750-20190120@calenda.revues.org
SUMMARY:Cine\, poderes y libertad en américa latina
URL:https://calenda-formation.labocleo.org/525750
DESCRIPTION:Tomando como base la idea según la cual el poder es un fenómeno específicamente humano que se rige esencialmente por la libertad y que adquiere sentido sólo cuando una conciencia (individual\, colectiva\, anónima) obra\, decide\, dispone de él para dirig… Más informaciones https://calenda-formation.labocleo.org/525750
LOCATION:Tours
END:VEVENT
END:VCALENDAR
