BEGIN:VCALENDAR
VERSION:2.0
PRODID:-//https://calenda-formation.labocleo.org
X-WR-CALNAME:Calenda
X-WR-TIMEZONE:Europe/Paris
CALSCALE:GREGORIAN
X-WR-CALDESC:Le calendrier des lettres et sciences humaines et sociales
METHOD:PUBLISH
BEGIN:VEVENT
DTSTART;VALUE=DATE:20181231
DTEND;VALUE=DATE:20190101
UID:527929-20181231@calenda.revues.org
SUMMARY:Hark ! Le Cresson a quarante ans
URL:https://calenda-formation.labocleo.org/527929
DESCRIPTION:L’objectif de cette école d’hiver est de proposer\, sur une semaine\, un programme à la fois théorique et pratique sur l’écoute\, la recherche et la composition / conception de l’environnement sonore. En 2019\, le Cresson\, équipe de recherche du laborato… Más informaciones https://calenda-formation.labocleo.org/527929
LOCATION:Grenoble
END:VEVENT
END:VCALENDAR
