BEGIN:VCALENDAR
VERSION:2.0
PRODID:-//https://calenda-formation.labocleo.org
X-WR-CALNAME:Calenda
X-WR-TIMEZONE:Europe/Paris
CALSCALE:GREGORIAN
X-WR-CALDESC:The calendar for arts, humanities and social sciences
METHOD:PUBLISH
BEGIN:VEVENT
DTSTART;VALUE=DATE:20190115
DTEND;VALUE=DATE:20190116
UID:530037-20190115@calenda.revues.org
SUMMARY:Travel grants at the Institut français d’études andines 2019
URL:https://calenda-formation.labocleo.org/530037
DESCRIPTION:L’Institut français d’études andines propose plusieurs bourses d’aides à la mobilité d’une durée variable\, allant de 3 à 9 mois\, éventuellement renouvelables. Elles sont destinées aux étudiants de Master 2 Recherche inscrits en thèse et aux doctorant… @plus_info https://calenda-formation.labocleo.org/530037
LOCATION:Lima
END:VEVENT
END:VCALENDAR
