BEGIN:VCALENDAR
VERSION:2.0
PRODID:-//https://calenda-formation.labocleo.org
X-WR-CALNAME:Calenda
X-WR-TIMEZONE:Europe/Paris
CALSCALE:GREGORIAN
X-WR-CALDESC:Le calendrier des lettres et sciences humaines et sociales
METHOD:PUBLISH
BEGIN:VEVENT
DTSTART;VALUE=DATE:20190131
DTEND;VALUE=DATE:20190201
UID:530749-20190131@calenda.revues.org
SUMMARY:Deux doctorants·e·s avec un projet de thèse à l'Institut historique allemand (IHA)
URL:https://calenda-formation.labocleo.org/530749
DESCRIPTION:Ces postes permettent de concevoir\, de mener ou d’achever un projet de thèse en histoire s’inscrivant dans le profil scientifique de l’Iinstitut historique allemand\, mais dont le sujet peut être défini par le candidat ou la candidate. Outre ses propr… Weitere Informationen https://calenda-formation.labocleo.org/530749
LOCATION:Paris
END:VEVENT
END:VCALENDAR
