BEGIN:VCALENDAR
VERSION:2.0
PRODID:-//https://calenda-formation.labocleo.org
X-WR-CALNAME:Calenda
X-WR-TIMEZONE:Europe/Paris
CALSCALE:GREGORIAN
X-WR-CALDESC:The calendar for arts, humanities and social sciences
METHOD:PUBLISH
BEGIN:VEVENT
DTSTART;VALUE=DATE:20190201
DTEND;VALUE=DATE:20190202
UID:530998-20190201@calenda.revues.org
SUMMARY:Literary and artistic representations of Japanese women since the 19th century
URL:https://calenda-formation.labocleo.org/530998
DESCRIPTION:Notre journée d’étude s’intéresse au domaine de l’imaginaire et de l’expression\, en même temps qu’à la question\, toujours actuelle\, de l’émancipation de la femme dans le monde moderne et contemporain. Centrée sur l’image de la femme japonaise en Occi… @plus_info https://calenda-formation.labocleo.org/530998
LOCATION:Nice
END:VEVENT
END:VCALENDAR
