BEGIN:VCALENDAR
VERSION:2.0
PRODID:-//https://calenda-formation.labocleo.org
X-WR-CALNAME:Calenda
X-WR-TIMEZONE:Europe/Paris
CALSCALE:GREGORIAN
X-WR-CALDESC:Le calendrier des lettres et sciences humaines et sociales
METHOD:PUBLISH
BEGIN:VEVENT
DTSTART;VALUE=DATE:20181217
DTEND;VALUE=DATE:20181218
UID:531728-20181217@calenda.revues.org
SUMMARY:Des sujets\, des acteurs ou des objets ? Regards anthropologiques sur les modes de participation enfantins
URL:https://calenda-formation.labocleo.org/531728
DESCRIPTION:L’atelier « Enfants et rites » ambitionne de promouvoir un champ de recherche explorant rites et faits religieux au croisement de l’anthropologie de l’enfance et des enfants et de l’anthropologie générale. La première édition de cet atelier s’est pen… Más informaciones https://calenda-formation.labocleo.org/531728
LOCATION:Lieja
END:VEVENT
END:VCALENDAR
