BEGIN:VCALENDAR
VERSION:2.0
PRODID:-//https://calenda-formation.labocleo.org
X-WR-CALNAME:Calenda
X-WR-TIMEZONE:Europe/Paris
CALSCALE:GREGORIAN
X-WR-CALDESC:Le calendrier des lettres et sciences humaines et sociales
METHOD:PUBLISH
BEGIN:VEVENT
DTSTART;VALUE=DATE:20190108
DTEND;VALUE=DATE:20190109
UID:533088-20190108@calenda.revues.org
SUMMARY:Journée événement à l’occasion des dix ans d’Hypothèses
URL:https://calenda-formation.labocleo.org/533088
DESCRIPTION:À l’occasion des dix ans d’Hypothèses\, en partenariat avec le groupement d'intérêt scientifique (GIS) du réseau des Unités régionales de formation à l'information scientifique et technique (URFIST) et l’université de Strasbourg (projet HYCAR)\, OpenEd… Weitere Informationen https://calenda-formation.labocleo.org/533088
LOCATION:Paris
END:VEVENT
END:VCALENDAR
