BEGIN:VCALENDAR
VERSION:2.0
PRODID:-//https://calenda-formation.labocleo.org
X-WR-CALNAME:Calenda
X-WR-TIMEZONE:Europe/Paris
CALSCALE:GREGORIAN
X-WR-CALDESC:Le calendrier des lettres et sciences humaines et sociales
METHOD:PUBLISH
BEGIN:VEVENT
DTSTART;VALUE=DATE:20190105
DTEND;VALUE=DATE:20190106
UID:533277-20190105@calenda.revues.org
SUMMARY:Construction Techniques and Writings on Architecture in Renaissance and Early Modern Europe
URL:https://calenda-formation.labocleo.org/533277
DESCRIPTION:The 2020 issue of the open access journal Opus Incertum (Florence University Press) aims to examine\, through selected case studies\, the complex relationship between construction practices and architectural writings in Renaissance and early modern Eur… Más informaciones https://calenda-formation.labocleo.org/533277
LOCATION:
END:VEVENT
END:VCALENDAR
