BEGIN:VCALENDAR
VERSION:2.0
PRODID:-//https://calenda-formation.labocleo.org
X-WR-CALNAME:Calenda
X-WR-TIMEZONE:Europe/Paris
CALSCALE:GREGORIAN
X-WR-CALDESC:The calendar for arts, humanities and social sciences
METHOD:PUBLISH
BEGIN:VEVENT
DTSTART;VALUE=DATE:20190131
DTEND;VALUE=DATE:20190201
UID:533554-20190131@calenda.revues.org
SUMMARY:Security\, a tridimensional approach - calls for contributions to a collective project
URL:https://calenda-formation.labocleo.org/533554
DESCRIPTION:Force est de constater qu’il ne se passe pas un jour sans que l’emploi du mot sécurité ne soit fait par nous ou par ceux qui sont proches de nous\, par les dirigeants étatiques\, par les responsables d’organisations internationales… Aussi\, la proximité… @plus_info https://calenda-formation.labocleo.org/533554
LOCATION:Maroua
END:VEVENT
END:VCALENDAR
