BEGIN:VCALENDAR
VERSION:2.0
PRODID:-//https://calenda-formation.labocleo.org
X-WR-CALNAME:Calenda
X-WR-TIMEZONE:Europe/Paris
CALSCALE:GREGORIAN
X-WR-CALDESC:Le calendrier des lettres et sciences humaines et sociales
METHOD:PUBLISH
BEGIN:VEVENT
DTSTART;VALUE=DATE:20181213
DTEND;VALUE=DATE:20181214
UID:533757-20181213@calenda.revues.org
SUMMARY:Une histoire énergétique pour demain
URL:https://calenda-formation.labocleo.org/533757
DESCRIPTION:Cette conférence-débat porte sur l’histoire de la Société française d’études thermiques et d’énergie solaire (Sofretes)\, société d’économie mixte qui fut pionnière mondiale dans le domaine des pompes solaires thermodynamiques de 1973 à 1983. La confé… Más informaciones https://calenda-formation.labocleo.org/533757
LOCATION:París
END:VEVENT
END:VCALENDAR
