BEGIN:VCALENDAR
VERSION:2.0
PRODID:-//https://calenda-formation.labocleo.org
X-WR-CALNAME:Calenda
X-WR-TIMEZONE:Europe/Paris
CALSCALE:GREGORIAN
X-WR-CALDESC:The calendar for arts, humanities and social sciences
METHOD:PUBLISH
BEGIN:VEVENT
DTSTART;VALUE=DATE:20190109
DTEND;VALUE=DATE:20190110
UID:534757-20190109@calenda.revues.org
SUMMARY:Collecting\, conserving and exploiting music from oral traditions in France and southern Europe
URL:https://calenda-formation.labocleo.org/534757
DESCRIPTION:Ce colloque entend revenir sur un phénomène lié au revival (ou « revivalisme ») des musiques et des danses traditionnelles\, tel qu’il s’est déployé en France et Europe méridionale\, du début des années 1970 jusqu’à l’orée du présent siècle. Mues par u… @plus_info https://calenda-formation.labocleo.org/534757
LOCATION:Marseille
END:VEVENT
BEGIN:VEVENT
DTSTART;VALUE=DATE:20190110
DTEND;VALUE=DATE:20190111
UID:534757-20190110@calenda.revues.org
SUMMARY:Collecting\, conserving and exploiting music from oral traditions in France and southern Europe
URL:https://calenda-formation.labocleo.org/534757
DESCRIPTION:Ce colloque entend revenir sur un phénomène lié au revival (ou « revivalisme ») des musiques et des danses traditionnelles\, tel qu’il s’est déployé en France et Europe méridionale\, du début des années 1970 jusqu’à l’orée du présent siècle. Mues par u… @plus_info https://calenda-formation.labocleo.org/534757
LOCATION:Marseille
END:VEVENT
BEGIN:VEVENT
DTSTART;VALUE=DATE:20190111
DTEND;VALUE=DATE:20190112
UID:534757-20190111@calenda.revues.org
SUMMARY:Collecting\, conserving and exploiting music from oral traditions in France and southern Europe
URL:https://calenda-formation.labocleo.org/534757
DESCRIPTION:Ce colloque entend revenir sur un phénomène lié au revival (ou « revivalisme ») des musiques et des danses traditionnelles\, tel qu’il s’est déployé en France et Europe méridionale\, du début des années 1970 jusqu’à l’orée du présent siècle. Mues par u… @plus_info https://calenda-formation.labocleo.org/534757
LOCATION:Marseille
END:VEVENT
END:VCALENDAR
