BEGIN:VCALENDAR
VERSION:2.0
PRODID:-//https://calenda-formation.labocleo.org
X-WR-CALNAME:Calenda
X-WR-TIMEZONE:Europe/Paris
CALSCALE:GREGORIAN
X-WR-CALDESC:Le calendrier des lettres et sciences humaines et sociales
METHOD:PUBLISH
BEGIN:VEVENT
DTSTART;VALUE=DATE:20190201
DTEND;VALUE=DATE:20190202
UID:535484-20190201@calenda.revues.org
SUMMARY:Souvenirs de vacances dans la littérature et les autres arts
URL:https://calenda-formation.labocleo.org/535484
DESCRIPTION:Le thème du souvenir a beaucoup intéressé la critique littéraire. Il est au cœur des réflexions modernes qui escortent par l’observation\, l’interprétation et la codification une production prolifique des écritures de soi. Ce leitmotiv de la littératu… @plus_info https://calenda-formation.labocleo.org/535484
LOCATION:Orléans
END:VEVENT
END:VCALENDAR
