BEGIN:VCALENDAR
VERSION:2.0
PRODID:-//https://calenda-formation.labocleo.org
X-WR-CALNAME:Calenda
X-WR-TIMEZONE:Europe/Paris
CALSCALE:GREGORIAN
X-WR-CALDESC:The calendar for arts, humanities and social sciences
METHOD:PUBLISH
BEGIN:VEVENT
DTSTART;VALUE=DATE:20190101
DTEND;VALUE=DATE:20190102
UID:535544-20190101@calenda.revues.org
SUMMARY:Off-beat recreative practices
URL:https://calenda-formation.labocleo.org/535544
DESCRIPTION:Nature et Récréation s'intéresse aux pratiques récréatives de nature. Son projet s'inscrit dans la continuité de l'activité du réseau des chercheurs et experts en sports de nature qui anime et stimule depuis plus de vingt ans le développement de la r… @plus_info https://calenda-formation.labocleo.org/535544
LOCATION:
END:VEVENT
END:VCALENDAR
