BEGIN:VCALENDAR
VERSION:2.0
PRODID:-//https://calenda-formation.labocleo.org
X-WR-CALNAME:Calenda
X-WR-TIMEZONE:Europe/Paris
CALSCALE:GREGORIAN
X-WR-CALDESC:The calendar for arts, humanities and social sciences
METHOD:PUBLISH
BEGIN:VEVENT
DTSTART;VALUE=DATE:20190107
DTEND;VALUE=DATE:20190108
UID:536686-20190107@calenda.revues.org
SUMMARY:Stage Master 2 - Survey of researchers in mathematics
URL:https://calenda-formation.labocleo.org/536686
DESCRIPTION:Le groupe « prospectives » du RNBM a pour mission de dresser un état des lieux des bibliothèques de mathématiques et de le mettre en regard de l'analyse des pratiques\, des usages et besoins de la communauté de recherche en matière de documentation et… @plus_info https://calenda-formation.labocleo.org/536686
LOCATION:Paris
END:VEVENT
END:VCALENDAR
