BEGIN:VCALENDAR
VERSION:2.0
PRODID:-//https://calenda-formation.labocleo.org
X-WR-CALNAME:Calenda
X-WR-TIMEZONE:Europe/Paris
CALSCALE:GREGORIAN
X-WR-CALDESC:Le calendrier des lettres et sciences humaines et sociales
METHOD:PUBLISH
BEGIN:VEVENT
DTSTART;VALUE=DATE:20190125
DTEND;VALUE=DATE:20190126
UID:537654-20190125@calenda.revues.org
SUMMARY:Construire la paix\, prévenir et déconstruire la guerre
URL:https://calenda-formation.labocleo.org/537654
DESCRIPTION:Les guerres\, les conflits\, occupent le champ d’une actualité qui ignore trop souvent les efforts de paix qui\, partout\, tentent de les endiguer. Violence et désir de paix\, menaces globales et conscience du destin commun\, coexistent dans un monde comme… Weitere Informationen https://calenda-formation.labocleo.org/537654
LOCATION:Ivry-sur-Seine
END:VEVENT
BEGIN:VEVENT
DTSTART;VALUE=DATE:20190126
DTEND;VALUE=DATE:20190127
UID:537654-20190126@calenda.revues.org
SUMMARY:Construire la paix\, prévenir et déconstruire la guerre
URL:https://calenda-formation.labocleo.org/537654
DESCRIPTION:Les guerres\, les conflits\, occupent le champ d’une actualité qui ignore trop souvent les efforts de paix qui\, partout\, tentent de les endiguer. Violence et désir de paix\, menaces globales et conscience du destin commun\, coexistent dans un monde comme… Weitere Informationen https://calenda-formation.labocleo.org/537654
LOCATION:Ivry-sur-Seine
END:VEVENT
END:VCALENDAR
