BEGIN:VCALENDAR
VERSION:2.0
PRODID:-//https://calenda-formation.labocleo.org
X-WR-CALNAME:Calenda
X-WR-TIMEZONE:Europe/Paris
CALSCALE:GREGORIAN
X-WR-CALDESC:O calendário de letras e de ciências sociais e humanas
METHOD:PUBLISH
BEGIN:VEVENT
DTSTART;VALUE=DATE:20190101
DTEND;VALUE=DATE:20190102
UID:539164-20190101@calenda.revues.org
SUMMARY:La recherche en langue et littérature françaises dans le contexte universitaire algérien: état des lieux\, actualité et perspectives
URL:https://calenda-formation.labocleo.org/539164
DESCRIPTION:La recherche en langue et littérature françaises\, dans le contexte universitaire algérien\,connait\, depuis plus d’une dizaine d’années\, une certaine dynamique. Contexte aidant avec l’instauration de l’EDAF (Ecole doctorale algéro-française relayée par… @plus_info https://calenda-formation.labocleo.org/539164
LOCATION:Sétif
END:VEVENT
END:VCALENDAR
