BEGIN:VCALENDAR
VERSION:2.0
PRODID:-//https://calenda-formation.labocleo.org
X-WR-CALNAME:Calenda
X-WR-TIMEZONE:Europe/Paris
CALSCALE:GREGORIAN
X-WR-CALDESC:Le calendrier des lettres et sciences humaines et sociales
METHOD:PUBLISH
BEGIN:VEVENT
DTSTART;VALUE=DATE:20190329
DTEND;VALUE=DATE:20190330
UID:548507-20190329@calenda.revues.org
SUMMARY:Heritage\, Legacy and Memory
URL:https://calenda-formation.labocleo.org/548507
DESCRIPTION:Over the past years\, the history of missionary movements has become of interest to diverse dis­ciplines within the humanities. The ‘Mission and Modernity Research Academy’ aims to bring together current research projects and expertise on missionaries… Más informaciones https://calenda-formation.labocleo.org/548507
LOCATION:Lovaina
END:VEVENT
END:VCALENDAR
