BEGIN:VCALENDAR
VERSION:2.0
PRODID:-//https://calenda-formation.labocleo.org
X-WR-CALNAME:Calenda
X-WR-TIMEZONE:Europe/Paris
CALSCALE:GREGORIAN
X-WR-CALDESC:The calendar for arts, humanities and social sciences
METHOD:PUBLISH
BEGIN:VEVENT
DTSTART;VALUE=DATE:20190228
DTEND;VALUE=DATE:20190301
UID:552782-20190228@calenda.revues.org
SUMMARY:Questionning the ways of inhabiting documentary spaces of access to knowledge
URL:https://calenda-formation.labocleo.org/552782
DESCRIPTION:Cet appel à article n°6/2019 de la Revue COSSI (Communication\, organisation\, société du savoir et information) coordonné par Isabelle Fabre et Vincent Liquète se propose de questionner les manières d'habiter les espaces documentaires d'accès aux savo… @plus_info https://calenda-formation.labocleo.org/552782
LOCATION:
END:VEVENT
END:VCALENDAR
