BEGIN:VCALENDAR
VERSION:2.0
PRODID:-//https://calenda-formation.labocleo.org
X-WR-CALNAME:Calenda
X-WR-TIMEZONE:Europe/Paris
CALSCALE:GREGORIAN
X-WR-CALDESC:The calendar for arts, humanities and social sciences
METHOD:PUBLISH
BEGIN:VEVENT
DTSTART;VALUE=DATE:20190224
DTEND;VALUE=DATE:20190225
UID:553231-20190224@calenda.revues.org
SUMMARY:The undisciplined discipline: the challenges of Pop Cultural Studies
URL:https://calenda-formation.labocleo.org/553231
DESCRIPTION:This call for paper is for a workshop which it itself included in this year's international symposium of the AFEA (Franch Association of American Studies) which will happen in Nantes\, France from May 22 nd to the 24th. This year's main theme of the c… @plus_info https://calenda-formation.labocleo.org/553231
LOCATION:Nantes
END:VEVENT
END:VCALENDAR
