BEGIN:VCALENDAR
VERSION:2.0
PRODID:-//https://calenda-formation.labocleo.org
X-WR-CALNAME:Calenda
X-WR-TIMEZONE:Europe/Paris
CALSCALE:GREGORIAN
X-WR-CALDESC:O calendário de letras e de ciências sociais e humanas
METHOD:PUBLISH
BEGIN:VEVENT
DTSTART;VALUE=DATE:20190430
DTEND;VALUE=DATE:20190501
UID:553761-20190430@calenda.revues.org
SUMMARY:Dispositifs numériques et villes durables. De l’interaction à l’engagement
URL:https://calenda-formation.labocleo.org/553761
DESCRIPTION:Des dispositifs traditionnels aux outils numériques participatifs\, les dispositifs techniques d’information et d’interaction avec le public au service de l’environnement et du développement durable n’ont cessé d’évoluer\, renouvelant sans cesse les in… @plus_info https://calenda-formation.labocleo.org/553761
LOCATION:
END:VEVENT
END:VCALENDAR
