BEGIN:VCALENDAR
VERSION:2.0
PRODID:-//https://calenda-formation.labocleo.org
X-WR-CALNAME:Calenda
X-WR-TIMEZONE:Europe/Paris
CALSCALE:GREGORIAN
X-WR-CALDESC:O calendário de letras e de ciências sociais e humanas
METHOD:PUBLISH
BEGIN:VEVENT
DTSTART;VALUE=DATE:20190128
DTEND;VALUE=DATE:20190129
UID:556023-20190128@calenda.revues.org
SUMMARY:Quelle indiscipline pour le peuple ? 
URL:https://calenda-formation.labocleo.org/556023
DESCRIPTION:Cet atelier proposé à l'occasion du congrès de l'Association française d'études américaines à Nantes en mai 2019 (21-24 mai) se propose de réfléchir à la question de l'indiscipline du peuple dans les mouvements politiques et sociaux aux États-Unis de… @plus_info https://calenda-formation.labocleo.org/556023
LOCATION:Nantes
END:VEVENT
END:VCALENDAR
