BEGIN:VCALENDAR
VERSION:2.0
PRODID:-//https://calenda-formation.labocleo.org
X-WR-CALNAME:Calenda
X-WR-TIMEZONE:Europe/Paris
CALSCALE:GREGORIAN
X-WR-CALDESC:Le calendrier des lettres et sciences humaines et sociales
METHOD:PUBLISH
BEGIN:VEVENT
DTSTART;VALUE=DATE:20190315
DTEND;VALUE=DATE:20190316
UID:556889-20190315@calenda.revues.org
SUMMARY:Il Campiello. Revue jeunes chercheurs d'études vénitiennes – Varia
URL:https://calenda-formation.labocleo.org/556889
DESCRIPTION:Il Campiello\, revue en ligne d'études vénitiennes\, publie un numéro annuel. Cet appel à contribution concerne le quatrième numéro\, qui paraîtra durant l'automne 2019. … @plus_info https://calenda-formation.labocleo.org/556889
LOCATION:
END:VEVENT
END:VCALENDAR
