BEGIN:VCALENDAR
VERSION:2.0
PRODID:-//https://calenda-formation.labocleo.org
X-WR-CALNAME:Calenda
X-WR-TIMEZONE:Europe/Paris
CALSCALE:GREGORIAN
X-WR-CALDESC:The calendar for arts, humanities and social sciences
METHOD:PUBLISH
BEGIN:VEVENT
DTSTART;VALUE=DATE:20190315
DTEND;VALUE=DATE:20190316
UID:557417-20190315@calenda.revues.org
SUMMARY:Digital Humanities\, and Digital Literature: Reading Together
URL:https://calenda-formation.labocleo.org/557417
DESCRIPTION:Pour sa seconde édition\, la conférence internationale DH onSite a pour objectif de réunir des chercheurs\, artistes enseignants et étudiants qui œuvrent à la frontière entre humanités numériques\, humanisme numérique et littérature numérique. La thémat… @plus_info https://calenda-formation.labocleo.org/557417
LOCATION:Cotonou
END:VEVENT
END:VCALENDAR
